BEGIN:VCALENDAR
VERSION:2.0
PRODID:-//wp-events-plugin.com//7.2.3.1//EN
BEGIN:VEVENT
UID:2461@slwg.org
DTSTART;TZID=America/Chicago:20200830T130000
DTEND;TZID=America/Chicago:20200830T170000
DTSTAMP:20200808T180430Z
URL:https://slwg.org/events/toys-for-tots-build-2/
SUMMARY:Toys for Tots Build
DESCRIPTION:Led by Bill Schuchat.  Each participant will be able to choose
  between two plans: A Toddler Rocking Horse which is on the SLWG toy patte
 rns or a Child's Walker Tricycle which was pictured in the July Guild news
  letter.\nPlans and materials to be provided.\nBoth projects will require 
 work beyond the class time to complete. Bill will be available later if yo
 u need assistance beyond the class period.
CATEGORIES:Woodworking Class
LOCATION:Faust Park Guild Shop\, 1135 Henry Jackson rd.  \, Chesterfield\, 
 MO\, 63017\, United States
GEO:38.66877;-90.540209
X-APPLE-STRUCTURED-LOCATION;VALUE=URI;X-ADDRESS=1135 Henry Jackson rd.  \, 
 Chesterfield\, MO\, 63017\, United States;X-APPLE-RADIUS=100;X-TITLE=Faust
  Park Guild Shop:geo:38.66877,-90.540209
END:VEVENT
BEGIN:VTIMEZONE
TZID:America/Chicago
X-LIC-LOCATION:America/Chicago
BEGIN:DAYLIGHT
DTSTART:20200308T030000
TZOFFSETFROM:-0600
TZOFFSETTO:-0500
TZNAME:CDT
END:DAYLIGHT
END:VTIMEZONE
END:VCALENDAR