BEGIN:VCALENDAR
VERSION:2.0
PRODID:-//wp-events-plugin.com//7.2.3.1//EN
BEGIN:VEVENT
UID:2537@slwg.org
DTSTART;TZID=America/Chicago:20210204T183000
DTEND;TZID=America/Chicago:20210204T210000
DTSTAMP:20210116T223821Z
URL:https://slwg.org/events/slwg-shop-safety-class-6/
SUMMARY:SLWG Shop Safety Class
DESCRIPTION:This class is required before a Guild member may use the shop d
 uring open shop hours. You must bring your current membership card to this
  class.\n\nYou MUST register for class.\n\nAs with all shop activities dur
 ing the COVID-19 pandemic\, this class is limited to four attendees. Face 
 masks must be worn at all times.
CATEGORIES:Woodworking Class
LOCATION:Faust Park Guild Shop\, 1135 Henry Jackson rd.  \, Chesterfield\, 
 MO\, 63017\, United States
GEO:38.66877;-90.540209
X-APPLE-STRUCTURED-LOCATION;VALUE=URI;X-ADDRESS=1135 Henry Jackson rd.  \, 
 Chesterfield\, MO\, 63017\, United States;X-APPLE-RADIUS=100;X-TITLE=Faust
  Park Guild Shop:geo:38.66877,-90.540209
END:VEVENT
BEGIN:VTIMEZONE
TZID:America/Chicago
X-LIC-LOCATION:America/Chicago
BEGIN:STANDARD
DTSTART:20201101T010000
TZOFFSETFROM:-0500
TZOFFSETTO:-0600
TZNAME:CST
END:STANDARD
END:VTIMEZONE
END:VCALENDAR