BEGIN:VCALENDAR
VERSION:2.0
PRODID:-//wp-events-plugin.com//7.2.3.1//EN
BEGIN:VEVENT
UID:2333@slwg.org
DTSTART;TZID=America/Chicago:20191107T183000
DTEND;TZID=America/Chicago:20191107T210000
DTSTAMP:20191018T003830Z
URL:https://slwg.org/events/slwg-shop-safety-class-3/
SUMMARY:SLWG Shop Safety Class
DESCRIPTION:Taking the safety course is required for any member that wishes
  to use the shop. Safe operation of equipment is discussed along with equi
 pment “do’s and don’ts. Bring your membership card and safety glasse
 s. There is a charge for the course. The safety course is not required for
  classes. “Refresher” courses may be taken at any time at no charge.\n
 \nYou MUST register for class\, either by emailing Wayne Watson (vicepresi
 dent@slwg.org) or registering online.
CATEGORIES:Woodworking Class
LOCATION:Faust Park Guild Shop\, 1135 Henry Jackson rd.  \, Chesterfield\, 
 MO\, 63017\, United States
GEO:38.66877;-90.540209
X-APPLE-STRUCTURED-LOCATION;VALUE=URI;X-ADDRESS=1135 Henry Jackson rd.  \, 
 Chesterfield\, MO\, 63017\, United States;X-APPLE-RADIUS=100;X-TITLE=Faust
  Park Guild Shop:geo:38.66877,-90.540209
END:VEVENT
BEGIN:VTIMEZONE
TZID:America/Chicago
X-LIC-LOCATION:America/Chicago
BEGIN:STANDARD
DTSTART:20191103T010000
TZOFFSETFROM:-0500
TZOFFSETTO:-0600
TZNAME:CST
END:STANDARD
END:VTIMEZONE
END:VCALENDAR