BEGIN:VCALENDAR
VERSION:2.0
PRODID:-//wp-events-plugin.com//7.2.3.1//EN
BEGIN:VEVENT
UID:4011@slwg.org
DTSTART;TZID=America/Chicago:20261105T183000
DTEND;TZID=America/Chicago:20261105T210000
DTSTAMP:20260120T152126Z
URL:https://slwg.org/events/slwg-safety-class-60/
SUMMARY:SLWG Safety Class
DESCRIPTION:Instructor:  Dave Gronefeld\n\nPrerequisites:  NONE\n\nDescri
 ption:  Taking the safety course is required for any member who wishes to
  use the shop.  Safe operation of equipment is discussed along with equip
 ment “do’s and don’ts.  Bring your membership card and safety glas
 ses. There is a charge for the course.\n\nThe safety course is required t
 o take Guild classes.\n\n“Refresher” courses may be taken at any time 
 at no charge.  Contact the Guild Vice President(vicepresident@slwg.org) f
 or how to register for free.\n\nYou MUST register for class\, either by re
 gistering online or emailing the Guild Vice President (vicepresident@slwg.
 org).
CATEGORIES:Woodworking Class
LOCATION:Faust Park Guild Shop\, 1135 Henry Jackson rd.  \, Chesterfield\, 
 MO\, 63017\, United States
GEO:38.66877;-90.540209
X-APPLE-STRUCTURED-LOCATION;VALUE=URI;X-ADDRESS=1135 Henry Jackson rd.  \, 
 Chesterfield\, MO\, 63017\, United States;X-APPLE-RADIUS=100;X-TITLE=Faust
  Park Guild Shop:geo:38.66877,-90.540209
END:VEVENT
BEGIN:VTIMEZONE
TZID:America/Chicago
X-LIC-LOCATION:America/Chicago
BEGIN:STANDARD
DTSTART:20261101T010000
TZOFFSETFROM:-0500
TZOFFSETTO:-0600
TZNAME:CST
END:STANDARD
END:VTIMEZONE
END:VCALENDAR