BEGIN:VCALENDAR
VERSION:2.0
PRODID:-//wp-events-plugin.com//7.2.3.1//EN
BEGIN:VEVENT
UID:3709@slwg.org
DTSTART;TZID=America/Chicago:20240905T183000
DTEND;TZID=America/Chicago:20240905T210000
DTSTAMP:20240801T193109Z
URL:https://slwg.org/events/slwg-safety-class-34/
SUMMARY:SLWG Safety Class
DESCRIPTION:Instructor:  Dave Gronefeld\n\nPrerequisites:  NONE\n\nDescri
 ption:  Taking the safety course is required for any member who wishes to
  use the shop.  Safe operation of equipment is discussed along with equip
 ment “do’s and don’ts.  Bring your membership card and safety glas
 ses. There is a charge for the course.\n\nThe safety course is not requir
 ed to take Guild classes.\n\n“Refresher” courses may be taken at any t
 ime at no charge.  Contact the Guild Vice President(vicepresident@slwg.or
 g) for how to register for free.\n\nYou MUST register for class\, either b
 y registering online or emailing the Guild Vice President (vicepresident@s
 lwg.org).
CATEGORIES:Woodworking Class
LOCATION:Faust Park Guild Shop\, 1135 Henry Jackson rd.  \, Chesterfield\, 
 MO\, 63017\, United States
GEO:38.66877;-90.540209
X-APPLE-STRUCTURED-LOCATION;VALUE=URI;X-ADDRESS=1135 Henry Jackson rd.  \, 
 Chesterfield\, MO\, 63017\, United States;X-APPLE-RADIUS=100;X-TITLE=Faust
  Park Guild Shop:geo:38.66877,-90.540209
END:VEVENT
BEGIN:VTIMEZONE
TZID:America/Chicago
X-LIC-LOCATION:America/Chicago
BEGIN:DAYLIGHT
DTSTART:20240310T030000
TZOFFSETFROM:-0600
TZOFFSETTO:-0500
TZNAME:CDT
END:DAYLIGHT
END:VTIMEZONE
END:VCALENDAR