BEGIN:VCALENDAR
VERSION:2.0
PRODID:-//wp-events-plugin.com//7.2.3.1//EN
BEGIN:VEVENT
UID:2833@slwg.org
DTSTART;TZID=America/Chicago:20211007T183000
DTEND;TZID=America/Chicago:20211007T210000
DTSTAMP:20210914T014245Z
URL:https://slwg.org/events/slwg-safety-class-2021-10-07/
SUMMARY:SLWG Safety Class
DESCRIPTION:Instructor:  Wayne Watson\nPrerequisites:  NONE\nDescription:
   Taking the safety course is required for any member who wishes to use t
 he shop.  Safe operation of equipment is discussed along with equipment 
 “do’s and don’ts.  Bring your membership card and safety glasses. T
 here is a charge for the course.\nThe safety course is not required to tak
 e Guild classes.\n“Refresher” courses may be taken at any time at no c
 harge.  Contact Bill Schuchat (vicepresident@slwg.org) for how to registe
 r for free.\nYou MUST register for class\, either by registering online or
  emailing Bill Schuchat (vicepresident@slwg.org).
CATEGORIES:Woodworking Class
LOCATION:Faust Park Guild Shop\, 1135 Henry Jackson rd.  \, Chesterfield\, 
 MO\, 63017\, United States
GEO:38.66877;-90.540209
X-APPLE-STRUCTURED-LOCATION;VALUE=URI;X-ADDRESS=1135 Henry Jackson rd.  \, 
 Chesterfield\, MO\, 63017\, United States;X-APPLE-RADIUS=100;X-TITLE=Faust
  Park Guild Shop:geo:38.66877,-90.540209
END:VEVENT
BEGIN:VTIMEZONE
TZID:America/Chicago
X-LIC-LOCATION:America/Chicago
BEGIN:DAYLIGHT
DTSTART:20210314T030000
TZOFFSETFROM:-0600
TZOFFSETTO:-0500
TZNAME:CDT
END:DAYLIGHT
END:VTIMEZONE
END:VCALENDAR