BEGIN:VCALENDAR
VERSION:2.0
PRODID:-//wp-events-plugin.com//7.2.3.1//EN
BEGIN:VEVENT
UID:4091@slwg.org
DTSTART;TZID=America/Chicago:20260919T090000
DTEND;TZID=America/Chicago:20260920T170000
DTSTAMP:20251229T000718Z
URL:https://slwg.org/events/slwg-open-shop-556/
SUMMARY:SLWG Open Shop
DESCRIPTION:Guild members that have taken the safety course may use the sho
 p.\nBring your membership card\, safety glasses\, materials\, and check in
  with the Safety Monitor.\nSign in and out on the clipboard to track shop 
 usage.
CATEGORIES:Open Shop
LOCATION:Faust Park Guild Shop\, 1135 Henry Jackson rd.  \, Chesterfield\, 
 MO\, 63017\, United States
GEO:38.66877;-90.540209
X-APPLE-STRUCTURED-LOCATION;VALUE=URI;X-ADDRESS=1135 Henry Jackson rd.  \, 
 Chesterfield\, MO\, 63017\, United States;X-APPLE-RADIUS=100;X-TITLE=Faust
  Park Guild Shop:geo:38.66877,-90.540209
END:VEVENT
BEGIN:VTIMEZONE
TZID:America/Chicago
X-LIC-LOCATION:America/Chicago
BEGIN:DAYLIGHT
DTSTART:20260308T030000
TZOFFSETFROM:-0600
TZOFFSETTO:-0500
TZNAME:CDT
END:DAYLIGHT
END:VTIMEZONE
END:VCALENDAR