BEGIN:VCALENDAR
VERSION:2.0
PRODID:-//wp-events-plugin.com//7.2.3.1//EN
BEGIN:VEVENT
UID:4066@slwg.org
DTSTART;TZID=America/Chicago:20261116T100000
DTEND;TZID=America/Chicago:20261117T140000
DTSTAMP:20251228T235207Z
URL:https://slwg.org/events/slwg-open-shop-531/
SUMMARY:SLWG Open Shop
DESCRIPTION:Guild members that have taken the safety course may use the sho
 p.\nBring your membership card\, safety glasses\, materials\, and check in
  with the Safety Monitor.\nSign in and out on the clipboard to track shop 
 usage.
CATEGORIES:Open Shop
LOCATION:Faust Park Guild Shop\, 1135 Henry Jackson rd.  \, Chesterfield\, 
 MO\, 63017\, United States
GEO:38.66877;-90.540209
X-APPLE-STRUCTURED-LOCATION;VALUE=URI;X-ADDRESS=1135 Henry Jackson rd.  \, 
 Chesterfield\, MO\, 63017\, United States;X-APPLE-RADIUS=100;X-TITLE=Faust
  Park Guild Shop:geo:38.66877,-90.540209
END:VEVENT
BEGIN:VTIMEZONE
TZID:America/Chicago
X-LIC-LOCATION:America/Chicago
BEGIN:STANDARD
DTSTART:20261101T010000
TZOFFSETFROM:-0500
TZOFFSETTO:-0600
TZNAME:CST
END:STANDARD
END:VTIMEZONE
END:VCALENDAR