BEGIN:VCALENDAR
VERSION:2.0
PRODID:-//wp-events-plugin.com//7.2.3.1//EN
BEGIN:VEVENT
UID:2383@slwg.org
DTSTART;TZID=America/Chicago:20200822T130000
DTEND;TZID=America/Chicago:20200822T170000
DTSTAMP:20200806T005347Z
URL:https://slwg.org/events/oval-shaker-boxes-with-jay-noffsinger/
SUMMARY:Oval Shaker Boxes with Jay Noffsinger (Day 1)
DESCRIPTION:Jay Noffsinger will present a program on constructing Shaker Ov
 al Boxes at he August Membership meeting. This workshop is a follow on to 
 that presentation. The workshop will be conducted in Jay's personal shop l
 ocated at 2073 Bowler Road\, O'Fallon Illinois 62269. It will be held on t
 wo consecutive Saturdays (August 22nd and August 29th) from 1:00 pm to 5:0
 0 pm. Cost includes all required materials. Students are required to bring
  wire snips\, tack hammer and a sharp "Exacto" knife. Each student will co
 nstruct three different size boxes which they can keep.
CATEGORIES:Woodworking Class
LOCATION:2073 Bowler Rd\, 2073 Bowler Rd\, O'Fallon\, Illinois\, 62269\, Un
 ited States
GEO:38.645946;-89.911853
X-APPLE-STRUCTURED-LOCATION;VALUE=URI;X-ADDRESS=2073 Bowler Rd\, O'Fallon\,
  Illinois\, 62269\, United States;X-APPLE-RADIUS=100;X-TITLE=2073 Bowler R
 d:geo:38.645946,-89.911853
END:VEVENT
BEGIN:VTIMEZONE
TZID:America/Chicago
X-LIC-LOCATION:America/Chicago
BEGIN:DAYLIGHT
DTSTART:20200308T030000
TZOFFSETFROM:-0600
TZOFFSETTO:-0500
TZNAME:CDT
END:DAYLIGHT
END:VTIMEZONE
END:VCALENDAR