BEGIN:VCALENDAR
VERSION:2.0
PRODID:-//wp-events-plugin.com//7.2.3.1//EN
BEGIN:VEVENT
UID:219@slwg.org
DTSTART;TZID=America/Chicago:20261217T184500
DTEND;TZID=America/Chicago:20261217T211500
DTSTAMP:20241230T162322Z
URL:https://slwg.org/events/monthly-meeting-2026-12-17/
SUMMARY:Monthly Membership Meeting
DESCRIPTION:All members and visitors are welcome to attend on the third Thu
 rsday of each month (except December). Updates on guild activities\, membe
 rs “Show and Tell” items\, raffles\, toy and box drop off\, and a gues
 t speaker are just part of what may be going on at any one time. Doors ope
 n at 6 pm and the meeting is from 7 to 8:30.\n\nWe meet in the lower level
  and enter through the lower level entrance. Parking is available at the l
 ower level and can be accessed from the ramp on at the far northeast corne
 r of the parking lot.
CATEGORIES:Monthly Meeting
LOCATION:Moolah Shrine\, 12545 Fee Fee Road\,\, St. Louis\, MO\, 63146\, Un
 ited States
GEO:38.69525554739794;-90.45707741964338
X-APPLE-STRUCTURED-LOCATION;VALUE=URI;X-ADDRESS=12545 Fee Fee Road\,\, St. 
 Louis\, MO\, 63146\, United States;X-APPLE-RADIUS=100;X-TITLE=Moolah Shrin
 e:geo:38.69525554739794,-90.45707741964338
END:VEVENT
BEGIN:VTIMEZONE
TZID:America/Chicago
X-LIC-LOCATION:America/Chicago
BEGIN:STANDARD
DTSTART:20261101T010000
TZOFFSETFROM:-0500
TZOFFSETTO:-0600
TZNAME:CST
END:STANDARD
END:VTIMEZONE
END:VCALENDAR