BEGIN:VCALENDAR
VERSION:2.0
PRODID:-//wp-events-plugin.com//7.2.3.1//EN
BEGIN:VEVENT
UID:4120@slwg.org
DTSTART;TZID=America/Chicago:20260829T123000
DTEND;TZID=America/Chicago:20260829T163000
DTSTAMP:20260402T010919Z
URL:https://slwg.org/events/making-3-d-christmas-ornaments-w-scroll-saw/
SUMMARY:Making 3-D Christmas Ornaments w/ scroll saw
DESCRIPTION:Instructor:    Brian Ellison\n\n Description: In this cours
 e you will learn to design and create 3-D Ornaments with the scroll saw.\n
 \n Prerequisites: Shop Safety Course. Open to all members\n\n Materials 
 and supplies that students are expected to bring to class:  None.\n\n Ma
 terials that will be provided by the Guild: All wood and patterns will be 
 provided.\n\n Other items Students need to bring to class such as tools: 
 Safety Glasses\n\n Information that the student needs to send to the inst
 ructor before class starts:  None.
CATEGORIES:Woodworking Class
LOCATION:Faust Park Guild Shop\, 1135 Henry Jackson rd.  \, Chesterfield\, 
 MO\, 63017\, United States
GEO:38.66877;-90.540209
X-APPLE-STRUCTURED-LOCATION;VALUE=URI;X-ADDRESS=1135 Henry Jackson rd.  \, 
 Chesterfield\, MO\, 63017\, United States;X-APPLE-RADIUS=100;X-TITLE=Faust
  Park Guild Shop:geo:38.66877,-90.540209
END:VEVENT
BEGIN:VTIMEZONE
TZID:America/Chicago
X-LIC-LOCATION:America/Chicago
BEGIN:DAYLIGHT
DTSTART:20260308T030000
TZOFFSETFROM:-0600
TZOFFSETTO:-0500
TZNAME:CDT
END:DAYLIGHT
END:VTIMEZONE
END:VCALENDAR