BEGIN:VCALENDAR
VERSION:2.0
PRODID:-//wp-events-plugin.com//7.2.3.1//EN
BEGIN:VEVENT
UID:4121@slwg.org
DTSTART;TZID=America/Chicago:20260830T090000
DTEND;TZID=America/Chicago:20260830T150000
DTSTAMP:20260402T011604Z
URL:https://slwg.org/events/intoduction-to-carving-3/
SUMMARY:Intoduction to Carving
DESCRIPTION:Instructor: Steve Botkin\nDescription:  Students will learn th
 e safety and basic cuts used in carving. The students will have a choice o
 f 2 projects to work on.  Depending on student's skill\, they will have a
 n opportunity to do both.\nPrerequisites:  Safety Class\nMaterials and su
 pplies that students are expected to bring to class:  Each student will b
 e required to have a fillet glove similar to this:  https://www.walmart.c
 om/ip/Ozark-Trail-Fishing-Fillet-Glove-Gray/55503825?from=/search\nMateria
 ls that will be provided by the Guild:  A thumb guard and all knives requ
 ired will be provided along with the wood for carving a " Wizard ".\nStart
  Time. Sharpening student owned knives will start at 9:00am\, class will s
 tart at 9:30 am\nLunch break:   Yes\, bring a sandwich and drink\nOther i
 tems Students need to bring to class such as tools:  If students have a c
 arving knife and they want to use it\, then bring it at 9:00 AM so that it
  can be sharpened.\nInformation that the student needs to send to the inst
 ructor before class starts:  If they have carved already\, then please se
 nd pictures of what they have done to steve@botkin.ws.
CATEGORIES:Woodworking Class
LOCATION:Faust Park Guild Shop\, 1135 Henry Jackson rd.  \, Chesterfield\, 
 MO\, 63017\, United States
GEO:38.66877;-90.540209
X-APPLE-STRUCTURED-LOCATION;VALUE=URI;X-ADDRESS=1135 Henry Jackson rd.  \, 
 Chesterfield\, MO\, 63017\, United States;X-APPLE-RADIUS=100;X-TITLE=Faust
  Park Guild Shop:geo:38.66877,-90.540209
END:VEVENT
BEGIN:VTIMEZONE
TZID:America/Chicago
X-LIC-LOCATION:America/Chicago
BEGIN:DAYLIGHT
DTSTART:20260308T030000
TZOFFSETFROM:-0600
TZOFFSETTO:-0500
TZNAME:CDT
END:DAYLIGHT
END:VTIMEZONE
END:VCALENDAR