BEGIN:VCALENDAR
VERSION:2.0
PRODID:-//wp-events-plugin.com//7.2.3.1//EN
BEGIN:VEVENT
UID:3531@slwg.org
DTSTART;TZID=America/Chicago:20260502T090000
DTEND;TZID=America/Chicago:20260502T130000
DTSTAMP:20260120T144525Z
URL:https://slwg.org/events/hand-tool-appliances-for-use-with-a-hand-plane
 -2/
SUMMARY:Hand Tool Appliances for Use with a Hand Plane
DESCRIPTION:&nbsp\;\nInstructor:  Mike Stoll\nDescription:   Hand Tool A
 ppliances for use with a hand plane. Shooting board (with mitre attachment
 )\, bench hooks\, winding sticks\, doe's foot (takes place of tail vise)\,
  planing stop\, all simple appliances which make hand tool work so much ea
 sier and efficient.\nPrerequisites:   Safety Class\nMaterials and suppli
 es that students are expected to class:  None\nMaterials that will be pro
 vided by the Guild:  Wood for appliances\nLunch break:  None\n
CATEGORIES:Woodworking Class
LOCATION:Faust Park Guild Shop\, 1135 Henry Jackson rd.  \, Chesterfield\, 
 MO\, 63017\, United States
GEO:38.66877;-90.540209
X-APPLE-STRUCTURED-LOCATION;VALUE=URI;X-ADDRESS=1135 Henry Jackson rd.  \, 
 Chesterfield\, MO\, 63017\, United States;X-APPLE-RADIUS=100;X-TITLE=Faust
  Park Guild Shop:geo:38.66877,-90.540209
END:VEVENT
BEGIN:VTIMEZONE
TZID:America/Chicago
X-LIC-LOCATION:America/Chicago
BEGIN:DAYLIGHT
DTSTART:20260308T030000
TZOFFSETFROM:-0600
TZOFFSETTO:-0500
TZNAME:CDT
END:DAYLIGHT
END:VTIMEZONE
END:VCALENDAR