BEGIN:VCALENDAR
VERSION:2.0
PRODID:-//wp-events-plugin.com//7.2.3.1//EN
BEGIN:VEVENT
UID:104@slwg.org
DTSTART;TZID=America/Chicago:20271014T183000
DTEND;TZID=America/Chicago:20271014T203000
DTSTAMP:20241106T170556Z
URL:https://slwg.org/events/executive-board-meeting-2027-10-14/
SUMMARY:Executive Board Meeting
DESCRIPTION:Executive board meets on the second Thursday of each month (exc
 ept December) to handle business of the Guild. Committee Chairmen and othe
 r activity leaders are invited to participate and give reports on their ar
 ea of responsibility. All members are welcome to attend. The meeting is co
 nducted with the online conferencing tool Google Meet (similar to Zoom). R
 equest an invitation by sending email to webmaster@slwg.org.
CATEGORIES:Executive Board Meeting
LOCATION:http://meet.google.com/hie-ejhc-fem
END:VEVENT
BEGIN:VTIMEZONE
TZID:America/Chicago
X-LIC-LOCATION:America/Chicago
BEGIN:DAYLIGHT
DTSTART:20270314T030000
TZOFFSETFROM:-0600
TZOFFSETTO:-0500
TZNAME:CDT
END:DAYLIGHT
END:VTIMEZONE
END:VCALENDAR