BEGIN:VCALENDAR
VERSION:2.0
PRODID:-//wp-events-plugin.com//7.2.3.1//EN
BEGIN:VEVENT
UID:4117@slwg.org
DTSTART;TZID=America/Chicago:20260628T090000
DTEND;TZID=America/Chicago:20260628T150000
DTSTAMP:20260220T162644Z
URL:https://slwg.org/events/beginners-woodworking-class-9/
SUMMARY:Beginners Woodworking Class
DESCRIPTION:Instructors: Bill Schuchat\, Bob Danner &amp\; Others TBD\nCour
 se description: This class is intended for beginning woodworkers who are n
 ot familiar with the power equipment in our shop.  You will have an oppor
 tunity to use the table saw\, band saw\, scroll saw\, router table\, trim 
 router\, drill press\, jointer and planer and will make 2 small projects t
 o get familiar with this equipment. We will work from drawings that show d
 imensions of the components so you will learn how to read a drawing if you
  do not already know how. The projects will be made from soft wood.\nPrere
 quisite:  Member of the St. Louis Woodworkers Guild and the SLWG Safety C
 lass\nLunch Break:  A 30 minute lunch so plan to bring some food to eat.\
 nMaterial that each Attendee should bring: Safety glasses with side shield
 s and hearing protection.\nMaterials that the Guild will supply: Wood\, gl
 ue\, screws\, etc. Shop has a good selection of tools to use.\nIf you have
  any questions in advance you are welcome to call or email Bill. 314-406-1
 823. wschuchat@gmail.com\n&nbsp\;
CATEGORIES:Woodworking Class
LOCATION:Faust Park Guild Shop\, 1135 Henry Jackson rd.  \, Chesterfield\, 
 MO\, 63017\, United States
GEO:38.66877;-90.540209
X-APPLE-STRUCTURED-LOCATION;VALUE=URI;X-ADDRESS=1135 Henry Jackson rd.  \, 
 Chesterfield\, MO\, 63017\, United States;X-APPLE-RADIUS=100;X-TITLE=Faust
  Park Guild Shop:geo:38.66877,-90.540209
END:VEVENT
BEGIN:VTIMEZONE
TZID:America/Chicago
X-LIC-LOCATION:America/Chicago
BEGIN:DAYLIGHT
DTSTART:20260308T030000
TZOFFSETFROM:-0600
TZOFFSETTO:-0500
TZNAME:CDT
END:DAYLIGHT
END:VTIMEZONE
END:VCALENDAR